BEGIN:VCALENDAR
VERSION:2.0
PRODID:-//wp-events-plugin.com//7.2.3.1//EN
BEGIN:VEVENT
UID:79@beach-n-fun.de
DTSTART;TZID=Europe/Amsterdam;VALUE=DATE:20220813
DTEND;TZID=Europe/Amsterdam;VALUE=DATE:20220815
DTSTAMP:20220804T092841Z
URL:https://beach-n-fun.de/events/22-frankenberger-beach-cup-a/
SUMMARY:22. Frankenberger Beach-Cup (A+)
DESCRIPTION:22. Sparkassen Beach Cup Frankenberg/Eder \n13. + 14. August 20
 22 \n\n\n\n\n\nTermin\n\n\n13. + 14. August 2022\n\n\n\n\nOrt\n&nbsp\;\n\n
 \n35066 Frankenberg/Eder \nSparkassen-Beach-Arena (Berleburger Str. 22)\n\
 n\n\n\nAnlage\n\n\n4 Courts in der Sparkassen-Beach-Arena \n\n\n\n\nPreisg
 eld\n\n\n2500\,- €\n\n\n\n\nTeilnehmerzahl\n&nbsp\;\n\n\nFRAUEN 16 Teams
  \nMÄNNER 16 Teams \n\n\n\n\nSpielmodus\n\n\nmodifiziertes PoolPlay DVV -
  Alle Spiele 2 Gewinnsätze bis 21 Punkte\n\n\n\n\nZeitplan\n&nbsp\;\n&nbs
 p\;\n&nbsp\;\n&nbsp\;\n&nbsp\;\n&nbsp\;\n&nbsp\;\n&nbsp\;\n&nbsp\;\n&nbsp\
 ;\n&nbsp\;\n&nbsp\;\n&nbsp\;\n\n\nSamstag\, 13.08.2022 \nbis 09.20 Uhr Anm
 eldung Sparkassen-Beach-Arena \n 09.30 Uhr Technical Meeting\n 10.00 Uhr S
 pielbeginn\n 18.30 Uhr spätester Beginn letztes Spiel \n&nbsp\;\nSonntag\
 , 14.08.2022 \nbis 09.30 Uhr Anmeldung Sparkassen-Beach-Arena \n10.00 Uhr 
 Halbfinale Frauen\n11.00 Uhr Halbfinale Männer \n12.00 Uhr kleines Finale
  Frauen + Männer\n13.00 Uhr Finale Frauen\n14.00 Uhr Finale Männer\nca. 
 15.00 Uhr Siegerehrung\n\n\n\n
CATEGORIES:Beach
LOCATION:Sparkassen-Beach-Arena\, Berleburger Str. 22\, Frankenberg\, Hesse
 n\, 35066 \, Deutschland
X-APPLE-STRUCTURED-LOCATION;VALUE=URI;X-ADDRESS=Berleburger Str. 22\, Frank
 enberg\, Hessen\, 35066 \, Deutschland;X-APPLE-RADIUS=100;X-TITLE=Sparkass
 en-Beach-Arena:geo:0,0
END:VEVENT
BEGIN:VTIMEZONE
TZID:Europe/Amsterdam
X-LIC-LOCATION:Europe/Amsterdam
BEGIN:DAYLIGHT
DTSTART:20220327T030000
TZOFFSETFROM:+0100
TZOFFSETTO:+0200
TZNAME:CEST
END:DAYLIGHT
END:VTIMEZONE
END:VCALENDAR