BEGIN:VCALENDAR
VERSION:2.0
PRODID:-//wp-events-plugin.com//7.2.3.1//EN
BEGIN:VEVENT
UID:33@beach-n-fun.de
DTSTART;TZID=Europe/Berlin;VALUE=DATE:20210926
DTEND;TZID=Europe/Berlin;VALUE=DATE:20210927
DTSTAMP:20210922T142642Z
URL:https://beach-n-fun.de/events/bezirksliga-maenner-6/
SUMMARY:Bezirksliga Männer
DESCRIPTION:Auswärtsspiel\n\nVSG Kassel/ TGW 2/ TSV Hessen 1848 Frankenber
 g
CATEGORIES:Bezirksliga,Männer 1
END:VEVENT
BEGIN:VTIMEZONE
TZID:Europe/Berlin
X-LIC-LOCATION:Europe/Berlin
BEGIN:DAYLIGHT
DTSTART:20210328T030000
TZOFFSETFROM:+0100
TZOFFSETTO:+0200
TZNAME:CEST
END:DAYLIGHT
END:VTIMEZONE
END:VCALENDAR