BEGIN:VCALENDAR
VERSION:2.0
PRODID:-//wp-events-plugin.com//7.2.3.1//EN
BEGIN:VEVENT
UID:45@beach-n-fun.de
DTSTART;TZID=Europe/Berlin:20211127T110000
DTEND;TZID=Europe/Berlin:20211127T180000
DTSTAMP:20211005T132749Z
URL:https://beach-n-fun.de/events/frauen-2-kreisklasse-3/
SUMMARY:Frauen 2 Kreisklasse
DESCRIPTION:SSC Vellmar
CATEGORIES:Frauen 2
END:VEVENT
BEGIN:VTIMEZONE
TZID:Europe/Berlin
X-LIC-LOCATION:Europe/Berlin
BEGIN:STANDARD
DTSTART:20211031T020000
TZOFFSETFROM:+0200
TZOFFSETTO:+0100
TZNAME:CET
END:STANDARD
END:VTIMEZONE
END:VCALENDAR