BEGIN:VCALENDAR
VERSION:2.0
PRODID:-//wp-events-plugin.com//7.2.3.1//EN
BEGIN:VEVENT
UID:68@beach-n-fun.de
DTSTART;TZID=Europe/Berlin:20220326T110000
DTEND;TZID=Europe/Berlin:20220326T180000
DTSTAMP:20210927T144417Z
URL:https://beach-n-fun.de/events/frauen-2-kreisklasse-6/
SUMMARY:Frauen 2 Kreisklasse
DESCRIPTION:TG Wehlheiden 4\n\n&nbsp\;\n\n&nbsp\;\n\n&nbsp\;\n\n&nbsp\;\n\n
 &nbsp\;\n\n&nbsp\;\n\n&nbsp\;\n\n&nbsp\;
CATEGORIES:Frauen 2
END:VEVENT
BEGIN:VTIMEZONE
TZID:Europe/Berlin
X-LIC-LOCATION:Europe/Berlin
BEGIN:STANDARD
DTSTART:20211031T020000
TZOFFSETFROM:+0200
TZOFFSETTO:+0100
TZNAME:CET
END:STANDARD
END:VTIMEZONE
END:VCALENDAR