BEGIN:VCALENDAR
VERSION:2.0
PRODID:-//wp-events-plugin.com//7.2.3.1//EN
BEGIN:VEVENT
UID:29@beach-n-fun.de
DTSTART;TZID=Europe/Amsterdam:20200711T080000
DTEND;TZID=Europe/Amsterdam:20200711T180000
DTSTAMP:20200703T083148Z
URL:https://beach-n-fun.de/events/hessischen-meisterschaften-der-u17-im-be
 achvolleyball/
SUMMARY:Hessischen Meisterschaften der U17 im Beachvolleyball
DESCRIPTION:Die diesjährigen Hessischen Meisterschaften der U17 im Beachvo
 lleyball finden auf den 4 Feldern der Sparkassen Beach-Arena des TSV Frank
 enberg statt.\n\nDie Anmeldung erfolgt online über das HVV-Beach-Portal o
 der direkt beim Jugendwart.\n\n12 Mädchen und 12 Jungenteams\n
CATEGORIES:Hessenmeisterschaft,U17
LOCATION:Sparkassen-Beach-Arena\, Berleburger Str. 22\, Frankenberg\, Hesse
 n\, 35066 \, Deutschland
X-APPLE-STRUCTURED-LOCATION;VALUE=URI;X-ADDRESS=Berleburger Str. 22\, Frank
 enberg\, Hessen\, 35066 \, Deutschland;X-APPLE-RADIUS=100;X-TITLE=Sparkass
 en-Beach-Arena:geo:0,0
END:VEVENT
BEGIN:VTIMEZONE
TZID:Europe/Amsterdam
X-LIC-LOCATION:Europe/Amsterdam
BEGIN:DAYLIGHT
DTSTART:20200329T030000
TZOFFSETFROM:+0100
TZOFFSETTO:+0200
TZNAME:CEST
END:DAYLIGHT
END:VTIMEZONE
END:VCALENDAR