BEGIN:VCALENDAR
VERSION:2.0
PRODID:-//wp-events-plugin.com//7.2.3.1//EN
BEGIN:VEVENT
UID:30@beach-n-fun.de
DTSTART;TZID=Europe/Amsterdam:20200712T080000
DTEND;TZID=Europe/Amsterdam:20200712T180000
DTSTAMP:20200703T083449Z
URL:https://beach-n-fun.de/events/hessischen-meisterschaften-der-u18-im-be
 achvolleyball/
SUMMARY:Hessischen Meisterschaften der U18 im Beachvolleyball
DESCRIPTION:Die diesjährigen Hessischen Meisterschaften der U18 im Beachvo
 lleyball finden auf der Sparkassen Beach-Arena des TSV Frankenberg statt.\
 n\nDie Anmeldung erfolgt online über das HVV-Beach-Portal oder direkt bei
 m Jugendwart.\n\n16 Mädchen und 8 Jungenteams
CATEGORIES:Hessenmeisterschaft,U18m,U18w
LOCATION:Sparkassen-Beach-Arena\, Berleburger Str. 22\, Frankenberg\, Hesse
 n\, 35066 \, Deutschland
X-APPLE-STRUCTURED-LOCATION;VALUE=URI;X-ADDRESS=Berleburger Str. 22\, Frank
 enberg\, Hessen\, 35066 \, Deutschland;X-APPLE-RADIUS=100;X-TITLE=Sparkass
 en-Beach-Arena:geo:0,0
END:VEVENT
BEGIN:VTIMEZONE
TZID:Europe/Amsterdam
X-LIC-LOCATION:Europe/Amsterdam
BEGIN:DAYLIGHT
DTSTART:20200329T030000
TZOFFSETFROM:+0100
TZOFFSETTO:+0200
TZNAME:CEST
END:DAYLIGHT
END:VTIMEZONE
END:VCALENDAR