BEGIN:VCALENDAR
VERSION:2.0
PRODID:-//wp-events-plugin.com//7.2.3.1//EN
BEGIN:VEVENT
UID:20@beach-n-fun.de
DTSTART;TZID=Europe/Amsterdam;VALUE=DATE:20200308
DTEND;TZID=Europe/Amsterdam;VALUE=DATE:20200309
DTSTAMP:20200217T123741Z
URL:https://beach-n-fun.de/events/hjp-u14m/
SUMMARY:HJP U14m
DESCRIPTION:Bommersheim
CATEGORIES:U14m
END:VEVENT
BEGIN:VTIMEZONE
TZID:Europe/Amsterdam
X-LIC-LOCATION:Europe/Amsterdam
BEGIN:STANDARD
DTSTART:20191027T020000
TZOFFSETFROM:+0200
TZOFFSETTO:+0100
TZNAME:CET
END:STANDARD
END:VTIMEZONE
END:VCALENDAR