BEGIN:VCALENDAR
VERSION:2.0
PRODID:-//wp-events-plugin.com//7.2.3.1//EN
BEGIN:VEVENT
UID:26@beach-n-fun.de
DTSTART;TZID=Europe/Amsterdam;VALUE=DATE:20200328
DTEND;TZID=Europe/Amsterdam;VALUE=DATE:20200329
DTSTAMP:20200217T124227Z
URL:https://beach-n-fun.de/events/hjp-u18w/
SUMMARY:HJP U18w
DESCRIPTION:Rüsselsheim
CATEGORIES:U18w
END:VEVENT
BEGIN:VTIMEZONE
TZID:Europe/Amsterdam
X-LIC-LOCATION:Europe/Amsterdam
BEGIN:STANDARD
DTSTART:20191027T020000
TZOFFSETFROM:+0200
TZOFFSETTO:+0100
TZNAME:CET
END:STANDARD
END:VTIMEZONE
END:VCALENDAR