BEGIN:VCALENDAR
VERSION:2.0
PRODID:-//wp-events-plugin.com//7.2.3.1//EN
BEGIN:VEVENT
UID:78@beach-n-fun.de
DTSTART;TZID=Europe/Amsterdam:20220731T100000
DTEND;TZID=Europe/Amsterdam:20220731T180000
DTSTAMP:20220607T065224Z
URL:https://beach-n-fun.de/events/hvv-mixed-bc-3/
SUMMARY:HVV Mixed B+C
DESCRIPTION:Anmeldung jeweils über&nbsp\;www.hvv-beach.de
CATEGORIES:Beach
LOCATION:Sparkassen-Beach-Arena\, Berleburger Str. 22\, Frankenberg\, Hesse
 n\, 35066 \, Deutschland
X-APPLE-STRUCTURED-LOCATION;VALUE=URI;X-ADDRESS=Berleburger Str. 22\, Frank
 enberg\, Hessen\, 35066 \, Deutschland;X-APPLE-RADIUS=100;X-TITLE=Sparkass
 en-Beach-Arena:geo:0,0
END:VEVENT
BEGIN:VTIMEZONE
TZID:Europe/Amsterdam
X-LIC-LOCATION:Europe/Amsterdam
BEGIN:DAYLIGHT
DTSTART:20220327T030000
TZOFFSETFROM:+0100
TZOFFSETTO:+0200
TZNAME:CEST
END:DAYLIGHT
END:VTIMEZONE
END:VCALENDAR