BEGIN:VCALENDAR
VERSION:2.0
PRODID:-//wp-events-plugin.com//7.2.3.1//EN
BEGIN:VEVENT
UID:23@beach-n-fun.de
DTSTART;TZID=Europe/Amsterdam:20200322T150000
DTEND;TZID=Europe/Amsterdam:20200322T170000
DTSTAMP:20200309T141748Z
URL:https://beach-n-fun.de/events/kreisklasse-frauen-3/
SUMMARY:Kreisklasse Frauen
DESCRIPTION:Auswärtsspiel\n\nTuspo Nieste 2 : TSV Hessen 1848 Frankenberg 
 2
CATEGORIES:Frauen 2
END:VEVENT
BEGIN:VTIMEZONE
TZID:Europe/Amsterdam
X-LIC-LOCATION:Europe/Amsterdam
BEGIN:STANDARD
DTSTART:20191027T020000
TZOFFSETFROM:+0200
TZOFFSETTO:+0100
TZNAME:CET
END:STANDARD
END:VTIMEZONE
END:VCALENDAR