BEGIN:VCALENDAR
VERSION:2.0
PRODID:-//wp-events-plugin.com//7.2.3.1//EN
BEGIN:VEVENT
UID:83@beach-n-fun.de
DTSTART;TZID=Europe/Amsterdam:20220924T150000
DTEND;TZID=Europe/Amsterdam:20220924T210000
DTSTAMP:20220915T071505Z
URL:https://beach-n-fun.de/events/kreisklasse-frauen-4/
SUMMARY:Kreisklasse Frauen
DESCRIPTION:ACT Kassel 2 : TSV Hessen 1848 Frankenberg 2
CATEGORIES:Frauen 2
END:VEVENT
BEGIN:VTIMEZONE
TZID:Europe/Amsterdam
X-LIC-LOCATION:Europe/Amsterdam
BEGIN:DAYLIGHT
DTSTART:20220327T030000
TZOFFSETFROM:+0100
TZOFFSETTO:+0200
TZNAME:CEST
END:DAYLIGHT
END:VTIMEZONE
END:VCALENDAR