BEGIN:VCALENDAR
VERSION:2.0
PRODID:-//wp-events-plugin.com//7.2.3.1//EN
BEGIN:VEVENT
UID:31@beach-n-fun.de
DTSTART;TZID=Europe/Berlin;VALUE=DATE:20210926
DTEND;TZID=Europe/Berlin;VALUE=DATE:20210927
DTSTAMP:20210922T142415Z
URL:https://beach-n-fun.de/events/landesliga-frauen-7/
SUMMARY:Landesliga Frauen
DESCRIPTION:Auswärtsspiel\n\nGießener SV : TSV Hessen 1848 Frankenberg
CATEGORIES:Frauen 1
END:VEVENT
BEGIN:VTIMEZONE
TZID:Europe/Berlin
X-LIC-LOCATION:Europe/Berlin
BEGIN:DAYLIGHT
DTSTART:20210328T030000
TZOFFSETFROM:+0100
TZOFFSETTO:+0200
TZNAME:CEST
END:DAYLIGHT
END:VTIMEZONE
END:VCALENDAR