BEGIN:VCALENDAR
VERSION:2.0
PRODID:-//wp-events-plugin.com//7.2.3.1//EN
BEGIN:VEVENT
UID:84@beach-n-fun.de
DTSTART;TZID=Europe/Amsterdam:20220925T110000
DTEND;TZID=Europe/Amsterdam:20220925T170000
DTSTAMP:20220915T071654Z
URL:https://beach-n-fun.de/events/landesliga-frauen-8/
SUMMARY:Landesliga Frauen
DESCRIPTION:USC Gießen : TSV Hessen 1848 Frankenberg Frauen 1
CATEGORIES:Frauen 1
END:VEVENT
BEGIN:VTIMEZONE
TZID:Europe/Amsterdam
X-LIC-LOCATION:Europe/Amsterdam
BEGIN:DAYLIGHT
DTSTART:20220327T030000
TZOFFSETFROM:+0100
TZOFFSETTO:+0200
TZNAME:CEST
END:DAYLIGHT
END:VTIMEZONE
END:VCALENDAR