BEGIN:VCALENDAR
VERSION:2.0
PRODID:-//wp-events-plugin.com//7.2.3.1//EN
BEGIN:VEVENT
UID:32@beach-n-fun.de
DTSTART;TZID=Europe/Berlin:20211031T110000
DTEND;TZID=Europe/Berlin:20211031T180000
DTSTAMP:20210927T122026Z
URL:https://beach-n-fun.de/events/landesliga-frauen-burgwaldschule-2/
SUMMARY:Landesliga Frauen
DESCRIPTION:Heimspiel\n\nSG Rodheim 2 : TSV Hessen 1848 Frankenberg\n\nDJK 
 Freigericht : TSV Hessen 1848 Frankenberg
CATEGORIES:Frauen 1,Landesliga
LOCATION:Sporthalle Burgwaldschule\, Friedrich-Riesch-Str. 22\, Frankenberg
 \, Hessen\, 35066\, Deutschland
X-APPLE-STRUCTURED-LOCATION;VALUE=URI;X-ADDRESS=Friedrich-Riesch-Str. 22\, 
 Frankenberg\, Hessen\, 35066\, Deutschland;X-APPLE-RADIUS=100;X-TITLE=Spor
 thalle Burgwaldschule:geo:0,0
END:VEVENT
BEGIN:VTIMEZONE
TZID:Europe/Berlin
X-LIC-LOCATION:Europe/Berlin
BEGIN:STANDARD
DTSTART:20211031T020000
TZOFFSETFROM:+0200
TZOFFSETTO:+0100
TZNAME:CET
END:STANDARD
END:VTIMEZONE
END:VCALENDAR