BEGIN:VCALENDAR
VERSION:2.0
PRODID:-//wp-events-plugin.com//7.2.3.1//EN
BEGIN:VEVENT
UID:62@beach-n-fun.de
DTSTART;TZID=Europe/Berlin:20220312T110000
DTEND;TZID=Europe/Berlin:20220312T180000
DTSTAMP:20210927T144009Z
URL:https://beach-n-fun.de/events/maenner-bezirksliga-6/
SUMMARY:Männer Bezirksliga
DESCRIPTION:Heimspiel\n\nVSG Kassel/TGW 3 + FSV Bergshausen 2\n\n&nbsp\;\n\
 n&nbsp\;\n\n&nbsp\;\n\n&nbsp\;\n\n&nbsp\;\n\n&nbsp\;\n\n&nbsp\;
CATEGORIES:Männer 1
LOCATION:Sporthalle Burgwaldschule\, Friedrich-Riesch-Str. 22\, Frankenberg
 \, Hessen\, 35066\, Deutschland
X-APPLE-STRUCTURED-LOCATION;VALUE=URI;X-ADDRESS=Friedrich-Riesch-Str. 22\, 
 Frankenberg\, Hessen\, 35066\, Deutschland;X-APPLE-RADIUS=100;X-TITLE=Spor
 thalle Burgwaldschule:geo:0,0
END:VEVENT
BEGIN:VTIMEZONE
TZID:Europe/Berlin
X-LIC-LOCATION:Europe/Berlin
BEGIN:STANDARD
DTSTART:20211031T020000
TZOFFSETFROM:+0200
TZOFFSETTO:+0100
TZNAME:CET
END:STANDARD
END:VTIMEZONE
END:VCALENDAR