BEGIN:VCALENDAR
VERSION:2.0
PRODID:-//wp-events-plugin.com//7.2.3.1//EN
BEGIN:VEVENT
UID:27@beach-n-fun.de
DTSTART;TZID=Europe/Amsterdam;VALUE=DATE:20200329
DTEND;TZID=Europe/Amsterdam;VALUE=DATE:20200330
DTSTAMP:20200217T124311Z
URL:https://beach-n-fun.de/events/nord-hm-u13m/
SUMMARY:Nord-HM U13m
DESCRIPTION:
CATEGORIES:U13m
LOCATION:Sporthalle Burgwaldschule\, Friedrich-Riesch-Str. 22\, Frankenberg
 \, Hessen\, 35066\, Deutschland
X-APPLE-STRUCTURED-LOCATION;VALUE=URI;X-ADDRESS=Friedrich-Riesch-Str. 22\, 
 Frankenberg\, Hessen\, 35066\, Deutschland;X-APPLE-RADIUS=100;X-TITLE=Spor
 thalle Burgwaldschule:geo:0,0
END:VEVENT
BEGIN:VTIMEZONE
TZID:Europe/Amsterdam
X-LIC-LOCATION:Europe/Amsterdam
BEGIN:STANDARD
DTSTART:20191027T020000
TZOFFSETFROM:+0200
TZOFFSETTO:+0100
TZNAME:CET
END:STANDARD
BEGIN:DAYLIGHT
DTSTART:20200329T030000
TZOFFSETFROM:+0100
TZOFFSETTO:+0200
TZNAME:CEST
END:DAYLIGHT
END:VTIMEZONE
END:VCALENDAR