BEGIN:VCALENDAR
VERSION:2.0
PRODID:-//wp-events-plugin.com//7.2.3.1//EN
BEGIN:VEVENT
UID:61@beach-n-fun.de
DTSTART;TZID=Europe/Berlin:20220226T110000
DTEND;TZID=Europe/Berlin:20220226T180000
DTSTAMP:20210927T143925Z
URL:https://beach-n-fun.de/events/u15w-landesliga-3/
SUMMARY:U15w Landesliga
DESCRIPTION:QHM/QHJP\n\n&nbsp\;\n\n&nbsp\;\n\n&nbsp\;\n\n&nbsp\;\n\n&nbsp\;
 \n\n&nbsp\;\n\n&nbsp\;
CATEGORIES:U15w
END:VEVENT
BEGIN:VTIMEZONE
TZID:Europe/Berlin
X-LIC-LOCATION:Europe/Berlin
BEGIN:STANDARD
DTSTART:20211031T020000
TZOFFSETFROM:+0200
TZOFFSETTO:+0100
TZNAME:CET
END:STANDARD
END:VTIMEZONE
END:VCALENDAR