BEGIN:VCALENDAR
VERSION:2.0
PRODID:-//wp-events-plugin.com//7.2.3.1//EN
BEGIN:VEVENT
UID:34@beach-n-fun.de
DTSTART;TZID=Europe/Berlin:20211002T110000
DTEND;TZID=Europe/Berlin:20211002T180000
DTSTAMP:20210927T122045Z
URL:https://beach-n-fun.de/events/u16m-bezirksliga/
SUMMARY:U16m Bezirksliga
DESCRIPTION:Heimspiel\n\nTSV Hessen 1848 Frankenberg
CATEGORIES:U16m
LOCATION:Sporthalle Burgwaldschule\, Friedrich-Riesch-Str. 22\, Frankenberg
 \, Hessen\, 35066\, Deutschland
X-APPLE-STRUCTURED-LOCATION;VALUE=URI;X-ADDRESS=Friedrich-Riesch-Str. 22\, 
 Frankenberg\, Hessen\, 35066\, Deutschland;X-APPLE-RADIUS=100;X-TITLE=Spor
 thalle Burgwaldschule:geo:0,0
END:VEVENT
BEGIN:VTIMEZONE
TZID:Europe/Berlin
X-LIC-LOCATION:Europe/Berlin
BEGIN:DAYLIGHT
DTSTART:20210328T030000
TZOFFSETFROM:+0100
TZOFFSETTO:+0200
TZNAME:CEST
END:DAYLIGHT
END:VTIMEZONE
END:VCALENDAR