BEGIN:VCALENDAR
VERSION:2.0
PRODID:-//wp-events-plugin.com//7.2.3.1//EN
BEGIN:VEVENT
UID:81@beach-n-fun.de
DTSTART;TZID=Europe/Amsterdam;VALUE=DATE:20220918
DTEND;TZID=Europe/Amsterdam;VALUE=DATE:20220919
DTSTAMP:20220915T070807Z
URL:https://beach-n-fun.de/events/u18w-in-johannesberg/
SUMMARY:Landesliga U18w in Johannesberg
DESCRIPTION:1ter Spieltag U18w in Johannesberg
CATEGORIES:U18w
END:VEVENT
BEGIN:VTIMEZONE
TZID:Europe/Amsterdam
X-LIC-LOCATION:Europe/Amsterdam
BEGIN:DAYLIGHT
DTSTART:20220327T030000
TZOFFSETFROM:+0100
TZOFFSETTO:+0200
TZNAME:CEST
END:DAYLIGHT
END:VTIMEZONE
END:VCALENDAR