BEGIN:VCALENDAR
VERSION:2.0
PRODID:-//wp-events-plugin.com//7.2.3.1//EN
BEGIN:VEVENT
UID:55@beach-n-fun.de
DTSTART;TZID=Europe/Berlin:20220123T110000
DTEND;TZID=Europe/Berlin:20220123T180000
DTSTAMP:20210927T143552Z
URL:https://beach-n-fun.de/events/u20w-landesliga-4/
SUMMARY:U20w Landesliga
DESCRIPTION:HM/HJP\n\n&nbsp\;\n\n&nbsp\;\n\n&nbsp\;\n\n&nbsp\;\n\n&nbsp\;\n
 \n&nbsp\;
CATEGORIES:U20w
END:VEVENT
BEGIN:VTIMEZONE
TZID:Europe/Berlin
X-LIC-LOCATION:Europe/Berlin
BEGIN:STANDARD
DTSTART:20211031T020000
TZOFFSETFROM:+0200
TZOFFSETTO:+0100
TZNAME:CET
END:STANDARD
END:VTIMEZONE
END:VCALENDAR