BEGIN:VCALENDAR
VERSION:2.0
PRODID:-//wp-events-plugin.com//7.2.3.1//EN
BEGIN:VEVENT
UID:35@beach-n-fun.de
DTSTART;TZID=Europe/Berlin:20211003T110000
DTEND;TZID=Europe/Berlin:20211003T180000
DTSTAMP:20210927T122308Z
URL:https://beach-n-fun.de/events/u20w-landesliga/
SUMMARY:U20w Landesliga
DESCRIPTION:Hünfeld\n\n&nbsp\;
CATEGORIES:U20w
END:VEVENT
BEGIN:VTIMEZONE
TZID:Europe/Berlin
X-LIC-LOCATION:Europe/Berlin
BEGIN:DAYLIGHT
DTSTART:20210328T030000
TZOFFSETFROM:+0100
TZOFFSETTO:+0200
TZNAME:CEST
END:DAYLIGHT
END:VTIMEZONE
END:VCALENDAR