BEGIN:VCALENDAR
VERSION:2.0
PRODID:-//wp-events-plugin.com//7.2.3.1//EN
BEGIN:VEVENT
UID:80@beach-n-fun.de
DTSTART;TZID=Europe/Amsterdam:20220917T083000
DTEND;TZID=Europe/Amsterdam:20220917T190000
DTSTAMP:20220915T070338Z
URL:https://beach-n-fun.de/events/vorbereitungsturnier-frankenberg/
SUMMARY:Vorbereitungsturnier Frankenberg
DESCRIPTION:Landesliga/Bezirksoberliga\n\nVfL Marburg 2\, Gießener SV 1+2\
 , TG Wehlheiden 2\, VfL Bad Arolsen\, TSV Frankenberg 1\n\nBezirksliga/Kre
 isklasse\n\nTSV Battenberg\, TG Wehlheiden 2\, Gießener SV 5\, TSV Franke
 nberg 2\n\nSchiedsrichterprüfung&nbsp\;D+C+FB (in Frankenberg)\n08.30 Uhr
  - BWS Raum 401 Gebäude 4
CATEGORIES:Landesliga
LOCATION:Sporthalle Burgwaldschule\, Friedrich-Riesch-Str. 22\, Frankenberg
 \, Hessen\, 35066\, Deutschland
X-APPLE-STRUCTURED-LOCATION;VALUE=URI;X-ADDRESS=Friedrich-Riesch-Str. 22\, 
 Frankenberg\, Hessen\, 35066\, Deutschland;X-APPLE-RADIUS=100;X-TITLE=Spor
 thalle Burgwaldschule:geo:0,0
END:VEVENT
BEGIN:VTIMEZONE
TZID:Europe/Amsterdam
X-LIC-LOCATION:Europe/Amsterdam
BEGIN:DAYLIGHT
DTSTART:20220327T030000
TZOFFSETFROM:+0100
TZOFFSETTO:+0200
TZNAME:CEST
END:DAYLIGHT
END:VTIMEZONE
END:VCALENDAR